BEGIN:VCALENDAR
VERSION:2.0
PRODID:-//CEAM - ECPv4.6.22//NONSGML v1.0//EN
CALSCALE:GREGORIAN
METHOD:PUBLISH
X-WR-CALNAME:CEAM
X-ORIGINAL-URL:https://www.ceam.org.uy
X-WR-CALDESC:Eventos para CEAM
BEGIN:VEVENT
DTSTART;TZID=UTC-3:20240217T160000
DTEND;TZID=UTC-3:20240217T170000
DTSTAMP:20260423T024135
CREATED:20240226T161317Z
LAST-MODIFIED:20240226T161317Z
UID:7816-1708185600-1708189200@www.ceam.org.uy
SUMMARY:Estudio Bíblico - en castellano
DESCRIPTION:SÁBADO    17.02.2024 – 16.00 h Uruguay – 20 h Alemania – Estudio Bíblico  – Los hermanos en la Biblia \n \nCompartirHaz clic para compartir en Facebook (Se abre en una ventana nueva)Haz clic para compartir en WhatsApp (Se abre en una ventana nueva)\n\n	\n
URL:https://www.ceam.org.uy/evento/estudio-biblico-en-castellano/
CATEGORIES:Charlas/Estudios Bíblicos
END:VEVENT
END:VCALENDAR