BEGIN:VCALENDAR
VERSION:2.0
PRODID:-//CEAM - ECPv4.6.22//NONSGML v1.0//EN
CALSCALE:GREGORIAN
METHOD:PUBLISH
X-WR-CALNAME:CEAM
X-ORIGINAL-URL:https://www.ceam.org.uy
X-WR-CALDESC:Eventos para CEAM
BEGIN:VEVENT
DTSTART;TZID=UTC-3:20231111T160000
DTEND;TZID=UTC-3:20231111T170000
DTSTAMP:20260423T215616
CREATED:20231103T134159Z
LAST-MODIFIED:20231103T134159Z
UID:7418-1699718400-1699722000@www.ceam.org.uy
SUMMARY:ESTUDIO BIBLICO - CEAM sábado 11.11.2023 16h Uruguay\, 20 h Alemania
DESCRIPTION:ESTUDIO BÍBLICO \nSÁBADO 11 DE NOVIEMBRE 16 h URUGUAY – 20 h ALEMANIA La Mujer en la Biblia XIILa virgen Maria II\, Theotokos – Arte Bizantino\n LINK      ZOOM     \nhttps://us02web.zoom.us/j/76337541478?pwd=K1dBMCs4OE1wcExDSk1LcXIvZ2lSdz09  \nID 763 3754 1478    Código acceso 9fN3F5 \nCompartirHaz clic para compartir en Facebook (Se abre en una ventana nueva)Haz clic para compartir en WhatsApp (Se abre en una ventana nueva)\n\n	\n
URL:https://www.ceam.org.uy/evento/estudio-biblico-ceam-sabado-11-11-2023-16h-uruguay-20-h-alemania/
CATEGORIES:Charlas/Estudios Bíblicos
END:VEVENT
END:VCALENDAR