BEGIN:VCALENDAR
VERSION:2.0
PRODID:-//CEAM - ECPv4.6.22//NONSGML v1.0//EN
CALSCALE:GREGORIAN
METHOD:PUBLISH
X-WR-CALNAME:CEAM
X-ORIGINAL-URL:https://www.ceam.org.uy
X-WR-CALDESC:Eventos para CEAM
BEGIN:VEVENT
DTSTART;TZID=UTC-3:20241013T110000
DTEND;TZID=UTC-3:20241013T120000
DTSTAMP:20260423T152421
CREATED:20241022T145057Z
LAST-MODIFIED:20241022T145057Z
UID:9320-1728817200-1728820800@www.ceam.org.uy
SUMMARY:ESTUDIO BÍBLICO
DESCRIPTION:ESTUDIO BÍBLICO\nDOMINGO 13.10.2024  – 11 h MONTEVIDEO\nMONTEVIDEO – PUNTA DEL ESTE – ALEMANIA\nLINK      ZOOM\nhttps://us02web.zoom.us/j/76337541478?pwd=K1dBMCs4OE1wcExDSk1LcXIvZ2lSdz09  \nID 763 3754 1478\n  Código acceso 9fN3F5 \nCompartirHaz clic para compartir en Facebook (Se abre en una ventana nueva)Haz clic para compartir en WhatsApp (Se abre en una ventana nueva)\n\n	\n
URL:https://www.ceam.org.uy/evento/estudio-biblico-7/
CATEGORIES:Charlas/Estudios Bíblicos
END:VEVENT
END:VCALENDAR