BEGIN:VCALENDAR
VERSION:2.0
PRODID:-//CEAM - ECPv4.6.22//NONSGML v1.0//EN
CALSCALE:GREGORIAN
METHOD:PUBLISH
X-WR-CALNAME:CEAM
X-ORIGINAL-URL:https://www.ceam.org.uy
X-WR-CALDESC:Eventos para CEAM
BEGIN:VEVENT
DTSTART;TZID=UTC-3:20230624T160000
DTEND;TZID=UTC-3:20230624T170000
DTSTAMP:20260424T125246
CREATED:20230526T171912Z
LAST-MODIFIED:20230622T170754Z
UID:6768-1687622400-1687626000@www.ceam.org.uy
SUMMARY:Estudio Bíblico en la CEAM - por zoom
DESCRIPTION:Sábado 24 de junio\, 16.00 h Uruguay – 21.00 h Alemania – ESTUDIO BÍBLICO\, VIRTUAL POR ZOOM  – La mujer en la Biblia V\, Las dos madres de Moisés – Pastor Dr. Jerónimo Granados\, Montevideo\nEste es el link \nJoin our Cloud HD Video Meeting \n \nEXODO 2\, 1-15\n1 Un hombre de la familia de Leví se casó con la hija de un levita.\n2 La mujer concibió y dio a luz un hijo; y viendo que era muy hermoso\, lo mantuvo escondido durante tres meses.\n3 Cuando ya no pudo ocultarlo más tiempo\, tomó una cesta de papiro y la impermeabilizó con betún y pez. Después puso en ella al niño y la dejó entre los juncos\, a orillas del Nilo.\n4 Pero la hermana del niño se quedó a una cierta distancia\, para ver qué le sucedería.\n5 La hija del Faraón bajó al Nilo para bañarse\, mientras sus doncellas se paseaban por la ribera. Al ver la cesta en medio de los juncos\, mandó a su esclava que fuera a recogerla.\n6 La abrió\, y vio al niño que estaba llorando; y llena de compasión\, exclamó: ‘Seguramente es un niño de los hebreos’.\n7 Entonces la hermana del niño dijo a la hija del Faraón: ‘¿Quieres que vaya a buscarte entre las hebreas una nodriza para que te lo críe’?.\n8 ‘Sí’\, le respondió la hija del Faraón. La jovencita fue a llamar a la madre del niño\,\n9 y la hija del Faraón le dijo: ‘Llévate a este niño y críamelo; yo te lo voy a retribuir’. La mujer lo tomó consigo y lo crió;\n10 y cuando el niño creció\, lo entregó a la hija del Faraón\, que lo trató como a un hijo y le puso el nombre de Moisés\, diciendo: ‘Sí\, yo lo saqué de las aguas’.\n11 Siendo ya un hombre\, Moisés salió en cierta ocasión a visitar a sus hermanos\, y observó los penosos trabajos a que estaban sometidos. También vio que un egipcio maltrataba a un hebreo\, a uno de sus hermanos.\n12 Entonces dirigió una mirada a su alrededor\, y como no divisó a nadie\, mató al egipcio y lo escondió en la arena.\n13 Al día siguiente regresó y encontró a dos hebreos que se estaban pelando. ‘¿Por qué golpeas a tu compañero?’ Preguntó al agresor.\n14 Pero este le respondió: ‘¿Quién te ha constituido jefe o árbitro nuestro? ¿Acaso piensas matarme como mataste al egipcio?’. Moisés sintió temor y pensó: ‘Por lo visto\, el asunto ha trascendido’. \n15 En efecto\, el Faraón se enteró de lo sucedido\, y buscó a Moisés para matarlo. Pero este huyó del Faraón\, y llegó al país de Madián. Allí se sentó junto a un pozo. \nCompartirHaz clic para compartir en Facebook (Se abre en una ventana nueva)Haz clic para compartir en WhatsApp (Se abre en una ventana nueva)\n\n	\n
URL:https://www.ceam.org.uy/evento/estudio-biblico-5/
CATEGORIES:Charlas/Estudios Bíblicos
END:VEVENT
END:VCALENDAR