BEGIN:VCALENDAR
VERSION:2.0
PRODID:-//CEAM - ECPv4.6.22//NONSGML v1.0//EN
CALSCALE:GREGORIAN
METHOD:PUBLISH
X-WR-CALNAME:CEAM
X-ORIGINAL-URL:https://www.ceam.org.uy
X-WR-CALDESC:Eventos para CEAM
BEGIN:VEVENT
DTSTART;TZID=UTC-3:20230513T160000
DTEND;TZID=UTC-3:20230513T170000
DTSTAMP:20260424T161903
CREATED:20230503T214140Z
LAST-MODIFIED:20230510T115459Z
UID:6715-1683993600-1683997200@www.ceam.org.uy
SUMMARY:Estudio Bíblico
DESCRIPTION:\n​ESTUDIO BÍBLICO POR ZOOM\nSábado 13 de mayo de 2023 a las 16 h Uruguay\, 21 h Alemania \nESTUDIO BÍBLICO\nTema: La mujer en la Biblia III –\nESTE ES EL LINK\nhttps://us02web.zoom.us/j/76337541478?pwd=K1dBMCs4OE1wcExDSk1LcXIvZ2lSdz09\nID 763 3754 1478\nCódigo de acceso 9fN3F5 \nCompartirHaz clic para compartir en Facebook (Se abre en una ventana nueva)Haz clic para compartir en WhatsApp (Se abre en una ventana nueva)\n\n	\n
URL:https://www.ceam.org.uy/evento/estudio-biblico-3/
CATEGORIES:Charlas/Estudios Bíblicos
END:VEVENT
END:VCALENDAR