BEGIN:VCALENDAR
VERSION:2.0
PRODID:-//CEAM - ECPv4.6.22//NONSGML v1.0//EN
CALSCALE:GREGORIAN
METHOD:PUBLISH
X-WR-CALNAME:CEAM
X-ORIGINAL-URL:https://www.ceam.org.uy
X-WR-CALDESC:Eventos para CEAM
BEGIN:VEVENT
DTSTART;TZID=UTC-3:20230923T160000
DTEND;TZID=UTC-3:20230923T170000
DTSTAMP:20260424T005308
CREATED:20230909T004642Z
LAST-MODIFIED:20230909T004642Z
UID:7163-1695484800-1695488400@www.ceam.org.uy
SUMMARY:ESTUDIO BIBLICO - 23.09.2023\, 16 h Uruguay\, 21 h Alemania
DESCRIPTION:ESTUDIO BÍBLICO \nSÁBADO 23 de setiembre\, 16.00 h Montevideo – Punta del Este\, 21.00 h  Alemania\nLa Mujer en la Biblia X \, Miriam II\, Moisés es confrontado por Miriam y Aaron-Montevideo – Punta Del Este – Alemania \n LINK      ZOOM     https://us02web.zoom.us/j/76337541478?pwd=K1dBMCs4OE1wcExDSk1LcXIvZ2lSdz09  \nID 763 3754 1478  /  Código acceso 9fN3F5 \n \nCompartirHaz clic para compartir en Facebook (Se abre en una ventana nueva)Haz clic para compartir en WhatsApp (Se abre en una ventana nueva)\n\n	\n
URL:https://www.ceam.org.uy/evento/estudio-biblico-23-09-2023-16-h-uruguay-21-h-alemania/
CATEGORIES:Charlas/Estudios Bíblicos
END:VEVENT
END:VCALENDAR