BEGIN:VCALENDAR
VERSION:2.0
PRODID:-//CEAM - ECPv4.6.22//NONSGML v1.0//EN
CALSCALE:GREGORIAN
METHOD:PUBLISH
X-WR-CALNAME:CEAM
X-ORIGINAL-URL:https://www.ceam.org.uy
X-WR-CALDESC:Eventos para CEAM
BEGIN:VEVENT
DTSTART;TZID=UTC-3:20221016T110000
DTEND;TZID=UTC-3:20221016T123000
DTSTAMP:20260425T180812
CREATED:20221012T154437Z
LAST-MODIFIED:20221012T154437Z
UID:6102-1665918000-1665923400@www.ceam.org.uy
SUMMARY:ERNTEDANK-GOTTESDIENST in  deutscher Sprache :: 16.10.2022\, 11 h Punt del Este
DESCRIPTION:​Les comunicamos que el próximo CULTO de ACCIÓN DE GRACIAS en alemán  se celebrará EN PUNTA DEL ESTE\n​ERNTEDANK-GOTTESDIENST in deutscher Sprache in Punta del Este​\nDomingo 16 de octubre de 2022   a las 11.00 h \n​Ich freue mich\, dass ich wieder mit Ihnen in Punta del Este einen Gottesdienst feiern kann.\nBitte laden Sie Ihre Bekannten ein\, um an unserem Gottesdienst in deutscher Sprache teilzunehmen.\nPastor Granados\n \nCompartirHaz clic para compartir en Facebook (Se abre en una ventana nueva)Haz clic para compartir en WhatsApp (Se abre en una ventana nueva)\n\n	\n
URL:https://www.ceam.org.uy/evento/erntedank-gottesdienst-in-deutscher-sprache-16-10-2022-11-h-punt-del-este/
CATEGORIES:Cultos
END:VEVENT
END:VCALENDAR