BEGIN:VCALENDAR
VERSION:2.0
PRODID:-//CEAM - ECPv4.6.22//NONSGML v1.0//EN
CALSCALE:GREGORIAN
METHOD:PUBLISH
X-WR-CALNAME:CEAM
X-ORIGINAL-URL:https://www.ceam.org.uy
X-WR-CALDESC:Eventos para CEAM
BEGIN:VEVENT
DTSTART;TZID=UTC-3:20170828T200000
DTEND;TZID=UTC-3:20170828T220000
DTSTAMP:20260422T145508
CREATED:20170803T023322Z
LAST-MODIFIED:20170803T023322Z
UID:1100-1503950400-1503957600@www.ceam.org.uy
SUMMARY:Ensayo del coro Arcadia
DESCRIPTION:CompartirHaz clic para compartir en Facebook (Se abre en una ventana nueva)Haz clic para compartir en WhatsApp (Se abre en una ventana nueva)\n\n	\n
URL:https://www.ceam.org.uy/evento/ensayo-del-coro-arcadia-8/
CATEGORIES:Otros
END:VEVENT
END:VCALENDAR