BEGIN:VCALENDAR
VERSION:2.0
PRODID:-//CEAM - ECPv4.6.22//NONSGML v1.0//EN
CALSCALE:GREGORIAN
METHOD:PUBLISH
X-WR-CALNAME:CEAM
X-ORIGINAL-URL:https://www.ceam.org.uy
X-WR-CALDESC:Eventos para CEAM
BEGIN:VEVENT
DTSTART;VALUE=DATE:20191027
DTEND;VALUE=DATE:20191028
DTSTAMP:20260424T181634
CREATED:20191007T151258Z
LAST-MODIFIED:20191021T230328Z
UID:3715-1572134400-1572220799@www.ceam.org.uy
SUMMARY:DOMINGO 27.10. :: NO se celebra culto -KEIN Gottesdienst
DESCRIPTION:Este domingo 27 de octubre NO se celebra culto en nuestra Iglesia con motivo de las elecciones nacionales. \nAn diesem Sonntag wird aufgrund der Wahlen kein Gottesdienst in unserer Kirche gefeiert. \nCompartirHaz clic para compartir en Facebook (Se abre en una ventana nueva)Haz clic para compartir en WhatsApp (Se abre en una ventana nueva)\n\n	\n
URL:https://www.ceam.org.uy/evento/domingo-27-10-no-se-celebra-culto/
CATEGORIES:Cultos
END:VEVENT
END:VCALENDAR