BEGIN:VCALENDAR
VERSION:2.0
PRODID:-//CEAM - ECPv4.6.22//NONSGML v1.0//EN
CALSCALE:GREGORIAN
METHOD:PUBLISH
X-WR-CALNAME:CEAM
X-ORIGINAL-URL:https://www.ceam.org.uy
X-WR-CALDESC:Eventos para CEAM
BEGIN:VEVENT
DTSTART;TZID=UTC-3:20230820T110000
DTEND;TZID=UTC-3:20230820T120000
DTSTAMP:20260424T055150
CREATED:20230803T153250Z
LAST-MODIFIED:20230818T165815Z
UID:7028-1692529200-1692532800@www.ceam.org.uy
SUMMARY:Domingo 20 de agosto\, 11.00 h - Culto - 11 ° Trinitatis - Montevideo
DESCRIPTION: \nCompartirHaz clic para compartir en Facebook (Se abre en una ventana nueva)Haz clic para compartir en WhatsApp (Se abre en una ventana nueva)\n\n	\n
URL:https://www.ceam.org.uy/evento/domingo-20-de-agosto-11-00-h-culto-11-trinitatis-montevideo/
CATEGORIES:Cultos
END:VEVENT
END:VCALENDAR