BEGIN:VCALENDAR
VERSION:2.0
PRODID:-//CEAM - ECPv4.6.22//NONSGML v1.0//EN
CALSCALE:GREGORIAN
METHOD:PUBLISH
X-WR-CALNAME:CEAM
X-ORIGINAL-URL:https://www.ceam.org.uy
X-WR-CALDESC:Eventos para CEAM
BEGIN:VEVENT
DTSTART;TZID=UTC-3:20230716T110000
DTEND;TZID=UTC-3:20230716T120000
DTSTAMP:20260424T073304
CREATED:20230727T155852Z
LAST-MODIFIED:20230727T155852Z
UID:6980-1689505200-1689508800@www.ceam.org.uy
SUMMARY:Domingo 16 de julio\, 11.00 h - Culto - CEAM
DESCRIPTION:Domingo 16 de julio\, 11.00 h – Culto – Montevideo \nCompartirHaz clic para compartir en Facebook (Se abre en una ventana nueva)Haz clic para compartir en WhatsApp (Se abre en una ventana nueva)\n\n	\n
URL:https://www.ceam.org.uy/evento/domingo-16-de-julio-11-00-h-culto-ceam/
CATEGORIES:Cultos
END:VEVENT
END:VCALENDAR