BEGIN:VCALENDAR
VERSION:2.0
PRODID:-//CEAM - ECPv4.6.22//NONSGML v1.0//EN
CALSCALE:GREGORIAN
METHOD:PUBLISH
X-WR-CALNAME:CEAM
X-ORIGINAL-URL:https://www.ceam.org.uy
X-WR-CALDESC:Eventos para CEAM
BEGIN:VEVENT
DTSTART;TZID=UTC-3:20240301T170000
DTEND;TZID=UTC-3:20240301T190000
DTSTAMP:20260422T231609
CREATED:20240226T160652Z
LAST-MODIFIED:20240226T161133Z
UID:7811-1709312400-1709319600@www.ceam.org.uy
SUMMARY:DIA MUNDIAL DE ORACION - Culto ecuménico en castellano
DESCRIPTION:VIERNES 01.03.2024 – 17.00 h – Día Mundial de Oración en castellano – Iglesia Evangélica Luterana Unida\, Av. 8 de Octubre 3320 (casi Bv. José Batlle y Ordóñez) \n \nCompartirHaz clic para compartir en Facebook (Se abre en una ventana nueva)Haz clic para compartir en WhatsApp (Se abre en una ventana nueva)\n\n	\n
URL:https://www.ceam.org.uy/evento/dia-mundial-de-oracion/
CATEGORIES:Cultos
END:VEVENT
END:VCALENDAR