BEGIN:VCALENDAR
VERSION:2.0
PRODID:-//CEAM - ECPv4.6.22//NONSGML v1.0//EN
CALSCALE:GREGORIAN
METHOD:PUBLISH
X-WR-CALNAME:CEAM
X-ORIGINAL-URL:https://www.ceam.org.uy
X-WR-CALDESC:Eventos para CEAM
BEGIN:VEVENT
DTSTART;TZID=UTC-3:20221002T170000
DTEND;TZID=UTC-3:20221002T180000
DTSTAMP:20260425T180259
CREATED:20220928T143941Z
LAST-MODIFIED:20220928T144247Z
UID:6049-1664730000-1664733600@www.ceam.org.uy
SUMMARY:DIA DEL PATRIMONIO 2022 EN LA CEAM
DESCRIPTION:Domingo 02 de Octubre –  17 h  \nDIA DEL PATRIMONIO – HOMENAJE A CHINA ZORRILLA \nPRESENTA  \nCORO ARCADIA \n«un camino entre lo sacro y lo profano» \nDIRIGIDO POR GABRIEL GONZÁLEZ \n\nENTRADA LIBRE Y GRATUITA\nJuan Manuel Blanes 1116 esquina Durazno \n¡Los esperamos! \nCompartirHaz clic para compartir en Facebook (Se abre en una ventana nueva)Haz clic para compartir en WhatsApp (Se abre en una ventana nueva)\n\n	\n
URL:https://www.ceam.org.uy/evento/dia-del-patrimonio-2022-en-la-ceam/
CATEGORIES:Conciertos/Conferencias
END:VEVENT
END:VCALENDAR