BEGIN:VCALENDAR
VERSION:2.0
PRODID:-//CEAM - ECPv4.6.22//NONSGML v1.0//EN
CALSCALE:GREGORIAN
METHOD:PUBLISH
X-WR-CALNAME:CEAM
X-ORIGINAL-URL:https://www.ceam.org.uy
X-WR-CALDESC:Eventos para CEAM
BEGIN:VEVENT
DTSTART;VALUE=DATE:20200712
DTEND;VALUE=DATE:20200713
DTSTAMP:20260424T063215
CREATED:20201007T210641Z
LAST-MODIFIED:20201007T210641Z
UID:4625-1594512000-1594598399@www.ceam.org.uy
SUMMARY:DIA DEL PADRE
DESCRIPTION:Estimados papás\,\n\nhoy es nuestro día y no quería pasar esta oportunidad sin saludarlos y desearles que pasen un lindo día en familia y con sus seres queridos.\n\nSegún la edad que tengamos algunos ya no los tenemos más\, pero seguro que siempre estarán presentes en nuestros recuerdos y a los que todavía lo tienen\, disfrútenlos pues seguramente hicieron todo lo posible\, con todos sus defectos y virtudes\, para que seamos personas de bien.\n\nMe despido con una letra de un cantante llamado Piero que bien puede ilustrar el camino de todo ser humano junto a su padre.\n\nEs un buen tipo mi viejo\nque anda solo y esperando\ntiene la tristeza larga\nde tanto venir andando. \nYo lo miro desde lejos\npero somos tan distintos\nes que creció con el siglo\ncon tranvía y vino tinto. \nViejo mi querido viejo\nahora ya camina lerdo\ncomo perdonando el viento\nyo soy tu sangre mi viejo\nsoy tu silencio y tu tiempo … \nÉl tiene los ojos buenos\ny una figura pesada\nla edad se le vino encima\nsin carnaval ni comparsa\nyo tengo los años nuevos\ny el hombre los años viejos\nel dolor lo lleva dentro\ny tiene historias sin tiempo. …… \n\n\nUna bendición para ellos\n\nJerónimo\nSu pastor.\n\nCompartirHaz clic para compartir en Facebook (Se abre en una ventana nueva)Haz clic para compartir en WhatsApp (Se abre en una ventana nueva)\n\n	\n
URL:https://www.ceam.org.uy/evento/dia-del-padre/
CATEGORIES:CEAM-Varios
END:VEVENT
END:VCALENDAR