BEGIN:VCALENDAR
VERSION:2.0
PRODID:-//CEAM - ECPv4.6.22//NONSGML v1.0//EN
CALSCALE:GREGORIAN
METHOD:PUBLISH
X-WR-CALNAME:CEAM
X-ORIGINAL-URL:https://www.ceam.org.uy
X-WR-CALDESC:Eventos para CEAM
BEGIN:VEVENT
DTSTART;TZID=UTC-3:20170601T190000
DTEND;TZID=UTC-3:20170601T203000
DTSTAMP:20260421T124400
CREATED:20170513T021119Z
LAST-MODIFIED:20170722T232330Z
UID:714-1496343600-1496349000@www.ceam.org.uy
SUMMARY:Culto Ecuménico :: Semana de la Oración
DESCRIPTION: \nNuestra Iglesia es sede de la semana de la oración por la unidad de los cristianos. \nCompartirHaz clic para compartir en Facebook (Se abre en una ventana nueva)Haz clic para compartir en WhatsApp (Se abre en una ventana nueva)\n\n	\n
URL:https://www.ceam.org.uy/evento/devocional/
CATEGORIES:Otros
END:VEVENT
END:VCALENDAR