BEGIN:VCALENDAR
VERSION:2.0
PRODID:-//CEAM - ECPv4.6.22//NONSGML v1.0//EN
CALSCALE:GREGORIAN
METHOD:PUBLISH
X-WR-CALNAME:CEAM
X-ORIGINAL-URL:https://www.ceam.org.uy
X-WR-CALDESC:Eventos para CEAM
BEGIN:VEVENT
DTSTART;TZID=UTC-3:20221022T160000
DTEND;TZID=UTC-3:20221022T170000
DTSTAMP:20260425T164213
CREATED:20221005T154837Z
LAST-MODIFIED:20221012T154015Z
UID:6074-1666454400-1666458000@www.ceam.org.uy
SUMMARY:CURSO BÍBLICO Y TEOLÓGICO EN LA CEAM - 22.10.2022 - 16H
DESCRIPTION:La próxima clase del ciclo del CURSO BÍBLICO Y TEOLÓGICO\, que dicta nuestro Pastor\, será el\nSábado 22 de octubre de 2022\na las 16 h\ny durará una hora. Se enviará el tema y el link zoom como de costumbre.\n \nCompartirHaz clic para compartir en Facebook (Se abre en una ventana nueva)Haz clic para compartir en WhatsApp (Se abre en una ventana nueva)\n\n	\n
URL:https://www.ceam.org.uy/evento/curso-biblico-y-teologico-en-la-ceam-22-10-2022-16h/
CATEGORIES:Charlas/Estudios Bíblicos
END:VEVENT
END:VCALENDAR