BEGIN:VCALENDAR
VERSION:2.0
PRODID:-//CEAM - ECPv4.6.22//NONSGML v1.0//EN
CALSCALE:GREGORIAN
METHOD:PUBLISH
X-WR-CALNAME:CEAM
X-ORIGINAL-URL:https://www.ceam.org.uy
X-WR-CALDESC:Eventos para CEAM
BEGIN:VEVENT
DTSTART;TZID=UTC-3:20200809T100000
DTEND;TZID=UTC-3:20200809T103000
DTSTAMP:20260424T031344
CREATED:20200807T170446Z
LAST-MODIFIED:20200912T202126Z
UID:4385-1596967200-1596969000@www.ceam.org.uy
SUMMARY:CULTO VIRTUAL - domingo 9 de agosto de 2020 - 10.oo h
DESCRIPTION:Domingo 9 de Agosto \nSe pasa online a las 10 h \nEste domingo nos guiarán en el culto dominical las pastoras y laicas de nuestra iglesia.\nDesde la Argentina\, el Paraguay\, el Uruguay e inclusive desde Alemania desde donde la Pastora Karla Steilmann realizará la predicación en español. Karla\, es una excelente pastora y persona que fue estudiante durante mi época de profesor en el ISEDET. Ella fue una estudiante que ya entonces prometía mucho por su calidad académica y hoy se encuentra haciendo un doctorado en Leipzig y pueda ser que sea una futura educadora en teología en nuestro ámbito eclesial.\nlink de la IERP \nCulto \nDomingo 9 de Agosto \nSe pasa online a las 10 h \nPara ver el culto a esa hora o luego de esa hora debe clickear el siguiente link \nhttps://www.youtube.com/c/IglesiaEvangelicaDelRioDeLaPlata \nlos esperamos \nPastor Dr. Jerónimo Granados. \nCompartirHaz clic para compartir en Facebook (Se abre en una ventana nueva)Haz clic para compartir en WhatsApp (Se abre en una ventana nueva)\n\n	\n
URL:https://www.ceam.org.uy/evento/culto-virtual/
CATEGORIES:Cultos
END:VEVENT
END:VCALENDAR