BEGIN:VCALENDAR
VERSION:2.0
PRODID:-//CEAM - ECPv4.6.22//NONSGML v1.0//EN
CALSCALE:GREGORIAN
METHOD:PUBLISH
X-WR-CALNAME:CEAM
X-ORIGINAL-URL:https://www.ceam.org.uy
X-WR-CALDESC:Eventos para CEAM
BEGIN:VEVENT
DTSTART;TZID=UTC-3:20200517T080000
DTEND;TZID=UTC-3:20200517T170000
DTSTAMP:20260424T063215
CREATED:20201022T171218Z
LAST-MODIFIED:20201022T171218Z
UID:4680-1589702400-1589734800@www.ceam.org.uy
SUMMARY:CULTO VIRTUAL  domingo 17 de mayo de 2020
DESCRIPTION:\nCompartirHaz clic para compartir en Facebook (Se abre en una ventana nueva)Haz clic para compartir en WhatsApp (Se abre en una ventana nueva)\n\n	\n
URL:https://www.ceam.org.uy/evento/culto-virtual-domingo-17-de-mayo-de-2020/
CATEGORIES:Cultos
END:VEVENT
END:VCALENDAR