BEGIN:VCALENDAR
VERSION:2.0
PRODID:-//CEAM - ECPv4.6.22//NONSGML v1.0//EN
CALSCALE:GREGORIAN
METHOD:PUBLISH
X-WR-CALNAME:CEAM
X-ORIGINAL-URL:https://www.ceam.org.uy
X-WR-CALDESC:Eventos para CEAM
BEGIN:VEVENT
DTSTART;VALUE=DATE:20211107
DTEND;VALUE=DATE:20211108
DTSTAMP:20260426T012334
CREATED:20211109T144713Z
LAST-MODIFIED:20211109T144713Z
UID:5566-1636243200-1636329599@www.ceam.org.uy
SUMMARY:CULTO VIRTUAL
DESCRIPTION:\n\n\n\n\n\n\n\n\n\n\n\n\n\n​Seguimos con los cultos virtuales.\nLes recuerdo que el próximo Domingo 14 de noviembre a las 11h en el cementerio Norte  tenemos nuestro Volkstrauertag ecuménico organizado por la Embajada de Alemania\nAhora el anuncio del culto virtual \n\n\nCelebramos este don recibido de parte de Dios.\n\n\n\nDomingo 7 de noviembre a partir de las 09.00 h\nLuego se podrá ver en cualquier momento\n\nhttps://www.youtube.com/watch?v=sOaksnaFeS80\n\n\n\nUn saludo afectuoso para todos/as\n\nJerónimo\n\n\n\n\n\n\n\n\n\n\n\n Celebramos en unidad y comunidad \nCompartirHaz clic para compartir en Facebook (Se abre en una ventana nueva)Haz clic para compartir en WhatsApp (Se abre en una ventana nueva)\n\n	\n
URL:https://www.ceam.org.uy/evento/culto-virtual-3/
CATEGORIES:Cultos
END:VEVENT
END:VCALENDAR