BEGIN:VCALENDAR
VERSION:2.0
PRODID:-//CEAM - ECPv4.6.22//NONSGML v1.0//EN
CALSCALE:GREGORIAN
METHOD:PUBLISH
X-WR-CALNAME:CEAM
X-ORIGINAL-URL:https://www.ceam.org.uy
X-WR-CALDESC:Eventos para CEAM
BEGIN:VEVENT
DTSTART;TZID=UTC-3:20230602T193000
DTEND;TZID=UTC-3:20230602T203000
DTSTAMP:20260424T143725
CREATED:20230526T172215Z
LAST-MODIFIED:20230526T172215Z
UID:6773-1685734200-1685737800@www.ceam.org.uy
SUMMARY:Culto por la semana de la oración
DESCRIPTION:Viernes 02 de junio\, 19.30 h – Culto por la Semana de Oración por la unidad de los Cristianos\, Iglesia Metodista Montevideo  \n \nCompartirHaz clic para compartir en Facebook (Se abre en una ventana nueva)Haz clic para compartir en WhatsApp (Se abre en una ventana nueva)\n\n	\n
URL:https://www.ceam.org.uy/evento/culto-por-la-semana-de-la-oracion/
CATEGORIES:Cultos
END:VEVENT
END:VCALENDAR