BEGIN:VCALENDAR
VERSION:2.0
PRODID:-//CEAM - ECPv4.6.22//NONSGML v1.0//EN
CALSCALE:GREGORIAN
METHOD:PUBLISH
X-WR-CALNAME:CEAM
X-ORIGINAL-URL:https://www.ceam.org.uy
X-WR-CALDESC:Eventos para CEAM
BEGIN:VEVENT
DTSTART;TZID=UTC-3:20240204T110000
DTEND;TZID=UTC-3:20240204T123000
DTSTAMP:20260423T063604
CREATED:20240205T234610Z
LAST-MODIFIED:20240205T234610Z
UID:7690-1707044400-1707049800@www.ceam.org.uy
SUMMARY:CULTO - GOTTESDIENST - CEAM - REUNION DE JOVENES
DESCRIPTION: \nDOMINGO 4 DE FEBRERO A LAS 11 H CON SANTA CENA \nA CONT. REUNIÓN DE JÓVENES CON CHORIZADA Y PINTADA DEL MURO EXTERIOR \nCompartirHaz clic para compartir en Facebook (Se abre en una ventana nueva)Haz clic para compartir en WhatsApp (Se abre en una ventana nueva)\n\n	\n
URL:https://www.ceam.org.uy/evento/culto-gottesdienst-ceam-reunion-de-jovenes/
CATEGORIES:Cultos,Niños-Jóvenes-Confirmandos
END:VEVENT
END:VCALENDAR