BEGIN:VCALENDAR
VERSION:2.0
PRODID:-//CEAM - ECPv4.6.22//NONSGML v1.0//EN
CALSCALE:GREGORIAN
METHOD:PUBLISH
X-WR-CALNAME:CEAM
X-ORIGINAL-URL:https://www.ceam.org.uy
X-WR-CALDESC:Eventos para CEAM
BEGIN:VEVENT
DTSTART;TZID=UTC-3:20221009T110000
DTEND;TZID=UTC-3:20221009T123000
DTSTAMP:20260425T181005
CREATED:20221005T154728Z
LAST-MODIFIED:20221007T151419Z
UID:6072-1665313200-1665318600@www.ceam.org.uy
SUMMARY:CULTO EN LA CEAM - EN CASTELLANO\, DOMINGO 9 DE OCTUBRE DE 2022 - 11H CON BAUTISMO
DESCRIPTION:Les comunicamos que el próximo CULTO en castellano se celebrará el\nDomingo 9 de octubre de 2022\na las 11.00 h\ny tendremos la alegría de participar en un bautismo de Pauline\, hija de Ulrich Mathias y Monique Goertz.\n \nCompartirHaz clic para compartir en Facebook (Se abre en una ventana nueva)Haz clic para compartir en WhatsApp (Se abre en una ventana nueva)\n\n	\n
URL:https://www.ceam.org.uy/evento/culto-en-la-ceam-en-castellano-domingo-9-de-octubre-de-2022-11h-con-bautismo/
CATEGORIES:Cultos
END:VEVENT
END:VCALENDAR