BEGIN:VCALENDAR
VERSION:2.0
PRODID:-//CEAM - ECPv4.6.22//NONSGML v1.0//EN
CALSCALE:GREGORIAN
METHOD:PUBLISH
X-WR-CALNAME:CEAM
X-ORIGINAL-URL:https://www.ceam.org.uy
X-WR-CALDESC:Eventos para CEAM
BEGIN:VEVENT
DTSTART;TZID=UTC-3:20241006T110000
DTEND;TZID=UTC-3:20241006T120000
DTSTAMP:20260421T180928
CREATED:20241001T173237Z
LAST-MODIFIED:20241001T173237Z
UID:9205-1728212400-1728216000@www.ceam.org.uy
SUMMARY:CULTO EN LA CEAM -Domingo 06.10.2024 - 11h
DESCRIPTION:DOMINGO 06.10.2024  – 11 h MONTEVIDEO Culto con escuela dominical- In memoriam del Sr. Carlos Both \nCompartirHaz clic para compartir en Facebook (Se abre en una ventana nueva)Haz clic para compartir en WhatsApp (Se abre en una ventana nueva)\n\n	\n
URL:https://www.ceam.org.uy/evento/culto-en-la-ceam-domingo-06-10-2024-11h/
CATEGORIES:Cultos
END:VEVENT
END:VCALENDAR