BEGIN:VCALENDAR
VERSION:2.0
PRODID:-//CEAM - ECPv4.6.22//NONSGML v1.0//EN
CALSCALE:GREGORIAN
METHOD:PUBLISH
X-WR-CALNAME:CEAM
X-ORIGINAL-URL:https://www.ceam.org.uy
X-WR-CALDESC:Eventos para CEAM
BEGIN:VEVENT
DTSTART;TZID=UTC-3:20190922T110000
DTEND;TZID=UTC-3:20190922T120000
DTSTAMP:20260424T081403
CREATED:20201023T031611Z
LAST-MODIFIED:20201023T031611Z
UID:4682-1569150000-1569153600@www.ceam.org.uy
SUMMARY:CULTO EN CASTELLANO con Santa Cena\, domingo 22 de setiembre de 2019
DESCRIPTION:Culto en idioma castellano con Santa Cena \nPastor Granados \nCompartirHaz clic para compartir en Facebook (Se abre en una ventana nueva)Haz clic para compartir en WhatsApp (Se abre en una ventana nueva)\n\n	\n
URL:https://www.ceam.org.uy/evento/culto-en-castellano-con-santa-cena-domingo-22-de-setiembre-de-2019/
CATEGORIES:Cultos
END:VEVENT
END:VCALENDAR