BEGIN:VCALENDAR
VERSION:2.0
PRODID:-//CEAM - ECPv4.6.22//NONSGML v1.0//EN
CALSCALE:GREGORIAN
METHOD:PUBLISH
X-WR-CALNAME:CEAM
X-ORIGINAL-URL:https://www.ceam.org.uy
X-WR-CALDESC:Eventos para CEAM
BEGIN:VEVENT
DTSTART;TZID=UTC-3:20221030T170000
DTEND;TZID=UTC-3:20221030T190000
DTSTAMP:20260425T144645
CREATED:20221029T134611Z
LAST-MODIFIED:20221029T134955Z
UID:6139-1667149200-1667156400@www.ceam.org.uy
SUMMARY:CULTO ECUMÉNICO DE LA REFORMA
DESCRIPTION:PRÓXIMO CULTO\nNo hay culto en nuestra iglesia\, pero se invita al culto unido que se realizará el\nDomingo 30 de octubre de 2022 a las 17.00 h\nLes comunicamos que el  CULTO ECUMÉNICO POR EL DÍA DE LA REFORMA   se celebrará en conjunto con las iglesias de la Federación de Iglesias Evangélicas del Uruguay\nel culto se hará en el templo valdense\nsobre la calle 8 de octubre 3039 de Montevideo\nEste domingo 30 de octubre a las 17 h por el DIA DE LA REFORMA  tendremos un culto ecuménico organizado por la Federación de Iglesias Evangélicas del Uruguay. Se realizará en la sede de una de las iglesias participantes\, en la Av 8 de Octubre 3039 (Iglesia Valdense)\nDesde la CEAM estaré dirigiendo el culto en la sección de la predicación junto a una y a un colega de otras Iglesias.  \nPor ello no habrá culto a la mañana en nuestra iglesia  sino directamente nos vemos a la tarde para esta conmemoración junto con otras comunidades .\nLOS ESPERAMOS\nJerónimo \nCompartirHaz clic para compartir en Facebook (Se abre en una ventana nueva)Haz clic para compartir en WhatsApp (Se abre en una ventana nueva)\n\n	\n
URL:https://www.ceam.org.uy/evento/culto-ecumenico-de-la-reforma/
CATEGORIES:Cultos,Ecumenismo-Obras Ecuménicas
END:VEVENT
END:VCALENDAR