BEGIN:VCALENDAR
VERSION:2.0
PRODID:-//CEAM - ECPv4.6.22//NONSGML v1.0//EN
CALSCALE:GREGORIAN
METHOD:PUBLISH
X-WR-CALNAME:CEAM
X-ORIGINAL-URL:https://www.ceam.org.uy
X-WR-CALDESC:Eventos para CEAM
BEGIN:VEVENT
DTSTART;TZID=UTC-3:20240331T110000
DTEND;TZID=UTC-3:20240331T120000
DTSTAMP:20260422T200127
CREATED:20240307T172556Z
LAST-MODIFIED:20240401T143202Z
UID:7891-1711882800-1711886400@www.ceam.org.uy
SUMMARY:Culto Domingo de Resurrección -  con la Maestra Cristina García Banegas
DESCRIPTION:DOMINGO 31.03.2024 – 11.00 h ​Culto Domingo de Resurrección –  con la Maestra Cristina García Banegas \n \nCompartirHaz clic para compartir en Facebook (Se abre en una ventana nueva)Haz clic para compartir en WhatsApp (Se abre en una ventana nueva)\n\n	\n
URL:https://www.ceam.org.uy/evento/culto-domingo-de-resurreccion-con-la-maestra-cristina-garcia-banegas/
CATEGORIES:Cultos
END:VEVENT
END:VCALENDAR