BEGIN:VCALENDAR
VERSION:2.0
PRODID:-//CEAM - ECPv4.6.22//NONSGML v1.0//EN
CALSCALE:GREGORIAN
METHOD:PUBLISH
X-WR-CALNAME:CEAM
X-ORIGINAL-URL:https://www.ceam.org.uy
X-WR-CALDESC:Eventos para CEAM
BEGIN:VEVENT
DTSTART;TZID=UTC-3:20220304T170000
DTEND;TZID=UTC-3:20220304T190000
DTSTAMP:20260426T032749
CREATED:20220314T171641Z
LAST-MODIFIED:20220314T171641Z
UID:5785-1646413200-1646420400@www.ceam.org.uy
SUMMARY:Culto DIA MUNDIAL DE LA ORACIÓN - viernes 4 de marzo de 2022 - 17.00 h
DESCRIPTION: Viernes 4.3.2022\, Iglesia Evangélica Alemana de Montevideo\, Juan Manuel Blanes 1116 \nCompartirHaz clic para compartir en Facebook (Se abre en una ventana nueva)Haz clic para compartir en WhatsApp (Se abre en una ventana nueva)\n\n	\n
URL:https://www.ceam.org.uy/evento/culto-dia-mundial-de-la-oracion-viernes-4-de-marzo-de-2022-17-00-h/
CATEGORIES:Cultos,Ecumenismo-Obras Ecuménicas
END:VEVENT
END:VCALENDAR