BEGIN:VCALENDAR
VERSION:2.0
PRODID:-//CEAM - ECPv4.6.22//NONSGML v1.0//EN
CALSCALE:GREGORIAN
METHOD:PUBLISH
X-WR-CALNAME:CEAM
X-ORIGINAL-URL:https://www.ceam.org.uy
X-WR-CALDESC:Eventos para CEAM
BEGIN:VEVENT
DTSTART;TZID=UTC-3:20231126T170000
DTEND;TZID=UTC-3:20231126T180000
DTSTAMP:20260423T143317
CREATED:20231125T005319Z
LAST-MODIFIED:20231126T124639Z
UID:7494-1701018000-1701021600@www.ceam.org.uy
SUMMARY:CULTO DEVOCIONAL VESPERTINO - 26.11.2023\, 17 H
DESCRIPTION: \n​​Domingo ​26.11.2023 – 17 h  (ATENCIÓN​\, ES EN HORARIO DE LA TARDE) \n​​MONTEVIDEO \nCULTO DEVOCIONAL VESPE​RTINO \nDURANTE EL DÍA PINTAMOS EL MURAL CON LOS JÓVENES \n\nORA ET LABORA \nLos invitamos cordialmente a nuestro devocional vespertino del domingo 26 de noviembre a las 17 h \nNuestros jóvenes estarán ese día pintando el mural y queremos terminar ese día de trabajo con un momento cúltico-devocional \nTambién podemos ajustar algunos detalles para el siguiente ​s​ábado que tenemos la GEMEINDEFEST \n​Los esperamos y compartimos algo para merendar \nCompartirHaz clic para compartir en Facebook (Se abre en una ventana nueva)Haz clic para compartir en WhatsApp (Se abre en una ventana nueva)\n\n	\n
URL:https://www.ceam.org.uy/evento/culto-devocional-vespertino-26-11-2023-17-h/
CATEGORIES:Cultos
END:VEVENT
END:VCALENDAR