BEGIN:VCALENDAR
VERSION:2.0
PRODID:-//CEAM - ECPv4.6.22//NONSGML v1.0//EN
CALSCALE:GREGORIAN
METHOD:PUBLISH
X-WR-CALNAME:CEAM
X-ORIGINAL-URL:https://www.ceam.org.uy
X-WR-CALDESC:Eventos para CEAM
BEGIN:VEVENT
DTSTART;TZID=UTC-3:20240526T110000
DTEND;TZID=UTC-3:20240526T123000
DTSTAMP:20260422T162709
CREATED:20240526T164052Z
LAST-MODIFIED:20240526T164052Z
UID:8216-1716721200-1716726600@www.ceam.org.uy
SUMMARY:CULTO DE TRINIDAD en la CEAM
DESCRIPTION:CULTO – TRINIDAD\nCON ESCUELA DOMINICAL PARA LOS NIÑOS \nDOMINGO 26 de Mayo 11 h\nLuego del culto compartiremos un momento con la\nDra. Celina Lértora Mendoza \ncoordinadora del Instituto Superior de Estudios Religiosos (ISER) \ncon medio siglo de estudios interreligiosos entre católicos\, judíos y reformados \nTEMA: diálogo interreligioso – novedades – intercambios \nLa iglesia estará calefaccionada y compartiremos un té o café caliente.\n \nCompartirHaz clic para compartir en Facebook (Se abre en una ventana nueva)Haz clic para compartir en WhatsApp (Se abre en una ventana nueva)\n\n	\n
URL:https://www.ceam.org.uy/evento/culto-de-trinidad-en-la-ceam/
CATEGORIES:Charlas/Estudios Bíblicos,Cultos
END:VEVENT
END:VCALENDAR