BEGIN:VCALENDAR
VERSION:2.0
PRODID:-//CEAM - ECPv4.6.22//NONSGML v1.0//EN
CALSCALE:GREGORIAN
METHOD:PUBLISH
X-WR-CALNAME:CEAM
X-ORIGINAL-URL:https://www.ceam.org.uy
X-WR-CALDESC:Eventos para CEAM
BEGIN:VEVENT
DTSTART;TZID=UTC-3:20231224T180000
DTEND;TZID=UTC-3:20231224T193000
DTSTAMP:20260423T112220
CREATED:20231203T161054Z
LAST-MODIFIED:20231230T213734Z
UID:7542-1703440800-1703446200@www.ceam.org.uy
SUMMARY:CULTO DE NOCHE BUENA - HEILIG ABEND GOTTESDIENST - bilingüe/zweisprachig mit KRIPPENSPIEL
DESCRIPTION:Domingo 24.12.2023 – 18 h Culto Bilingüe de Noche Buena / Navidad – con pesebre\nSonntag 24.12.2023 – 18 h zweisprachiger Gottesdienst Heilig Abend – mit Krippenspiel\n \n \n \nCompartirHaz clic para compartir en Facebook (Se abre en una ventana nueva)Haz clic para compartir en WhatsApp (Se abre en una ventana nueva)\n\n	\n
URL:https://www.ceam.org.uy/evento/culto-de-noche-buena-heilig-abend-gottesdienst-bilingue-zweisprachig-mit-krippenspiel/
CATEGORIES:Cultos
END:VEVENT
END:VCALENDAR