BEGIN:VCALENDAR
VERSION:2.0
PRODID:-//CEAM - ECPv4.6.22//NONSGML v1.0//EN
CALSCALE:GREGORIAN
METHOD:PUBLISH
X-WR-CALNAME:CEAM
X-ORIGINAL-URL:https://www.ceam.org.uy
X-WR-CALDESC:Eventos para CEAM
BEGIN:VEVENT
DTSTART;TZID=UTC-3:20220626T110000
DTEND;TZID=UTC-3:20220626T120000
DTSTAMP:20260426T033931
CREATED:20220609T235342Z
LAST-MODIFIED:20220619T152307Z
UID:5879-1656241200-1656244800@www.ceam.org.uy
SUMMARY:Culto de Confirmación con Santa Cena y Esc. Dominical - CEAM
DESCRIPTION:Domingo 26 de Junio – 11.00 h\nCulto de Confirmación con Santa Cena y Escuela Dominical\n\n\nCompartirHaz clic para compartir en Facebook (Se abre en una ventana nueva)Haz clic para compartir en WhatsApp (Se abre en una ventana nueva)\n\n	\n
URL:https://www.ceam.org.uy/evento/culto-de-confirmacion-con-santa-cena-y-esc-dominical-ceam/
CATEGORIES:Cultos,Niños-Jóvenes-Confirmandos
END:VEVENT
END:VCALENDAR