BEGIN:VCALENDAR
VERSION:2.0
PRODID:-//CEAM - ECPv4.6.22//NONSGML v1.0//EN
CALSCALE:GREGORIAN
METHOD:PUBLISH
X-WR-CALNAME:CEAM
X-ORIGINAL-URL:https://www.ceam.org.uy
X-WR-CALDESC:Eventos para CEAM
BEGIN:VEVENT
DTSTART;TZID=UTC-3:20231008T110000
DTEND;TZID=UTC-3:20231008T120000
DTSTAMP:20260423T181120
CREATED:20230928T164802Z
LAST-MODIFIED:20231006T143322Z
UID:7251-1696762800-1696766400@www.ceam.org.uy
SUMMARY:CULTO DE ACCION DE GRACIAS - ERNTEDANKGOTTESDIENST - CEAM PUNTA DEL ESTE
DESCRIPTION:DOMINGO 8 de octubre 11h\,  Culto Acción de Gracias con Santa Cena – Almuerzo comunitario – Punta del Este \n \nCompartirHaz clic para compartir en Facebook (Se abre en una ventana nueva)Haz clic para compartir en WhatsApp (Se abre en una ventana nueva)\n\n	\n
URL:https://www.ceam.org.uy/evento/culto-de-accion-de-gracias-erntedankgottesdienst-ceam-punta-del-este/
CATEGORIES:Cultos
END:VEVENT
END:VCALENDAR