BEGIN:VCALENDAR
VERSION:2.0
PRODID:-//CEAM - ECPv4.6.22//NONSGML v1.0//EN
CALSCALE:GREGORIAN
METHOD:PUBLISH
X-WR-CALNAME:CEAM
X-ORIGINAL-URL:https://www.ceam.org.uy
X-WR-CALDESC:Eventos para CEAM
BEGIN:VEVENT
DTSTART;TZID=UTC-3:20231217T110000
DTEND;TZID=UTC-3:20231217T133000
DTSTAMP:20260423T101232
CREATED:20231004T125621Z
LAST-MODIFIED:20231216T005709Z
UID:7279-1702810800-1702819800@www.ceam.org.uy
SUMMARY:Culto conmemorativo primera predicación en idioma alemán/Gedenk-Gottesdienst zur ersten Predigt in deutscher Sprache am Río de la Plata
DESCRIPTION: \nDomingo/Sonntag 17.12.2023\nCulto conmemorativo de la primera predicación en idioma alemán de nuestra iglesia (IERP) en el Cono Sur.\nNos visitará la Secretaria para América Latina\, el Caribe\, y Estados Unidos y Canadá de la Federación Luterana Mundial.\nGedenkgottesdienst zur ersten Predigt in deutscher Sprache in unserer Kirche im Cono Sur. Wir erwarten den Besuch der Sekretärin für Lateinamerika\, Karibik\, USA und Kanada des Lutherischen Weltbundes.\n—————————————————————————————————- \n\nINVITACIÓN\nculto CONCIERTO conmemorativo\n180 AÑOS DE LA PRIMERA PRÉDICA EN MONTEVIDEO Y EN EL CONO SUR\nLa Congregación Evangélica Alemana de Montevideo\nDeutsche Evangelische Gemeinde Montevideo\ninvita\na un culto-concierto conmemorativo el \ndomingo 17 de diciembre de 2023 a las 11.00 h\ncon motivo del 180 Aniversario de la primera prédica llevada a cabo por el  Pastor August Ludwig Siegel [i]\, celebrada en el Río de la Plata en agosto de 1843. \n	Emb (R) Jorge Meyer Long	     Dr. Jerónimo Granados\n	Presidente                           Pastor \nSe ruega confirmar asistencia\nAl finalizar el culto se invita a un brindis \nCon la presencia de la Maestra Cristina Garcìa Banegas y el Barìtono Ulrich Schraeder \n[i] Según informe del Pastor A. L. Siegel: An den Königl. Preuß. Wirklichen Geheimen Staatsminister\, Minister der Geistlichen\, Unterrichts- u. Medizinangelegenheiten\, Ritter hoher Orden Herrn Eichhorn Exzellenz in Berlin.\n————————————————————————————————————- \nCompartirHaz clic para compartir en Facebook (Se abre en una ventana nueva)Haz clic para compartir en WhatsApp (Se abre en una ventana nueva)\n\n	\n
URL:https://www.ceam.org.uy/evento/culto-conmemorativo-primera-predicacion-en-idioma-aleman-gedenk-gottesdienst-zur-ersten-predigt-in-deutscher-sprache-am-rio-de-la-plata/
CATEGORIES:Cultos
END:VEVENT
END:VCALENDAR