BEGIN:VCALENDAR
VERSION:2.0
PRODID:-//CEAM - ECPv4.6.22//NONSGML v1.0//EN
CALSCALE:GREGORIAN
METHOD:PUBLISH
X-WR-CALNAME:CEAM
X-ORIGINAL-URL:https://www.ceam.org.uy
X-WR-CALDESC:Eventos para CEAM
BEGIN:VEVENT
DTSTART;TZID=UTC-3:20230723T110000
DTEND;TZID=UTC-3:20230723T120000
DTSTAMP:20260424T091439
CREATED:20230727T155038Z
LAST-MODIFIED:20230727T155038Z
UID:6970-1690110000-1690113600@www.ceam.org.uy
SUMMARY:CULTO CONCIERTO EN LA CEAM
DESCRIPTION:CULTO-CONCIERTO DOMINICAL\nMúsica a cargo de la\nMtra. Cristina García Banegas – Órgano\nObras de J. S. Bach – D. Buxtehude  – G. F. Haendel\nCulto-Concierto 7° Trinitatis\nDomingo 23 Julio 11.00 h\nCulto a cargo de los pastores\nPredicación Pr. Presidente Leonardo Schindler\nPr. Dr. Jerónimo Granados\nPr. Jhonatan Schubert\nPra. Mónica Hillmann \nJuan Manuel Blanes 1116 esq. Durazno\nFoto de la obra en construcción del templo y casa pastoral 1908-1910 \n \nCompartirHaz clic para compartir en Facebook (Se abre en una ventana nueva)Haz clic para compartir en WhatsApp (Se abre en una ventana nueva)\n\n	\n
URL:https://www.ceam.org.uy/evento/culto-concierto-en-la-ceam/
CATEGORIES:Conciertos/Conferencias,Cultos
END:VEVENT
END:VCALENDAR