BEGIN:VCALENDAR
VERSION:2.0
PRODID:-//CEAM - ECPv4.6.22//NONSGML v1.0//EN
CALSCALE:GREGORIAN
METHOD:PUBLISH
X-WR-CALNAME:CEAM
X-ORIGINAL-URL:https://www.ceam.org.uy
X-WR-CALDESC:Eventos para CEAM
BEGIN:VEVENT
DTSTART;TZID=UTC-3:20231015T110000
DTEND;TZID=UTC-3:20231015T120000
DTSTAMP:20260424T010140
CREATED:20231011T201337Z
LAST-MODIFIED:20231011T201603Z
UID:7320-1697367600-1697371200@www.ceam.org.uy
SUMMARY:CULTO CONCIERTO (órgano) EN LA CEAM - DOMINGO 15.10. - 11h
DESCRIPTION: \nCULTO CONCIERTO\nCorales de J.S.BACH del ciclo \n   “Orgelbüchlein“\n     Es ist das Heil uns kommen her         \nDOMINGO 15 DE OCTUBRE 11 h\nEstimados miembros y amigos de la CEAM.\nEste domingo tendremos un CULTO CONCIERTO en honor a los que estuvieron en primera línea en tiempos de la pandemia. Los/as Funcionarios/as de la SALUD . \nEl 20 de octubre es el día del/la FUNCIONARIO/A DE LA SALUD en el Uruguay. Queremos honrar y saludar a todos aquellos que no solo se comprometieron por la salud de nuestros compatriotas\, sino también por todos los que perdieron la vida justamente por estar expuestos a la enfermedad en forma constante.\nLa música y la palabra se conjugarán para reflexionar especialmente en un personaje de la Edad Media\, Elisabet de Thüringen (Isabel de Turingia) que vivió en la ciudad de Marburg (Marburgo)\, bajo el ideal franciscano de la pobreza y entrega. Fundó un hospital estratégicamente ubicado\, donde atendió especialmente a los peregrinos y pobres de la zona. Ella entregó su vida en favor del cuidado de los enfermos\, muriendo por un contagio en noviembre de 1231.\nLos invitamos cordialmente a nuestro Culto Concierto de la mano de nuestra Maestra Cristina García Banegas y la reflexión del Pastor Dr. Jerónimo Granados. \nPROGRAMA\nEsta es una parte del programa\n Wer nur den lieben Gott lässt walten?\n In dich hab ich gehofft\, Herr \nEs ist das Heil uns kommen her\n Ich ruf zu dir\, Herr Jesu Christ\nPreludio y fuga en la menor (BWV 569) \nCompartirHaz clic para compartir en Facebook (Se abre en una ventana nueva)Haz clic para compartir en WhatsApp (Se abre en una ventana nueva)\n\n	\n
URL:https://www.ceam.org.uy/evento/culto-concierto-en-la-ceam-domingo-15-10-11h/
CATEGORIES:Conciertos/Conferencias,Cultos
END:VEVENT
END:VCALENDAR