BEGIN:VCALENDAR
VERSION:2.0
PRODID:-//CEAM - ECPv4.6.22//NONSGML v1.0//EN
CALSCALE:GREGORIAN
METHOD:PUBLISH
X-WR-CALNAME:CEAM
X-ORIGINAL-URL:https://www.ceam.org.uy
X-WR-CALDESC:Eventos para CEAM
BEGIN:VEVENT
DTSTART;TZID=UTC-3:20240324T110000
DTEND;TZID=UTC-3:20240324T120000
DTSTAMP:20260422T232524
CREATED:20240307T172451Z
LAST-MODIFIED:20240321T165424Z
UID:7889-1711278000-1711281600@www.ceam.org.uy
SUMMARY:Culto-Concierto Domingo de Ramos - con la Maestra Cristina García Banegas
DESCRIPTION:DOMINGO 24.03.2024 – 11.00 h ​Culto Concierto Domingo de Ramos – con la Maestra Cristina García Banegas \n \nCompartirHaz clic para compartir en Facebook (Se abre en una ventana nueva)Haz clic para compartir en WhatsApp (Se abre en una ventana nueva)\n\n	\n
URL:https://www.ceam.org.uy/evento/culto-concierto-domingo-de-ramos-con-el-maestro-alejandro-masseilot/
CATEGORIES:Conciertos/Conferencias,Cultos
END:VEVENT
END:VCALENDAR