BEGIN:VCALENDAR
VERSION:2.0
PRODID:-//CEAM - ECPv4.6.22//NONSGML v1.0//EN
CALSCALE:GREGORIAN
METHOD:PUBLISH
X-WR-CALNAME:CEAM
X-ORIGINAL-URL:https://www.ceam.org.uy
X-WR-CALDESC:Eventos para CEAM
BEGIN:VEVENT
DTSTART;TZID=UTC-3:20200607T110000
DTEND;TZID=UTC-3:20200607T113000
DTSTAMP:20260424T143849
CREATED:20201007T195140Z
LAST-MODIFIED:20201022T144741Z
UID:4583-1591527600-1591529400@www.ceam.org.uy
SUMMARY:CULTO CONCIERTO VIRTUAL :: domingo 7 de junio de 2020 11 h
DESCRIPTION: \nCompartirHaz clic para compartir en Facebook (Se abre en una ventana nueva)Haz clic para compartir en WhatsApp (Se abre en una ventana nueva)\n\n	\n
URL:https://www.ceam.org.uy/evento/culto-concierto-domingo-7-de-junio-de-2020-11-h/
CATEGORIES:Conciertos/Conferencias,Cultos
END:VEVENT
END:VCALENDAR