BEGIN:VCALENDAR
VERSION:2.0
PRODID:-//CEAM - ECPv4.6.22//NONSGML v1.0//EN
CALSCALE:GREGORIAN
METHOD:PUBLISH
X-WR-CALNAME:CEAM
X-ORIGINAL-URL:https://www.ceam.org.uy
X-WR-CALDESC:Eventos para CEAM
BEGIN:VEVENT
DTSTART;TZID=UTC-3:20211224T180000
DTEND;TZID=UTC-3:20211224T190000
DTSTAMP:20260425T215348
CREATED:20211205T121024Z
LAST-MODIFIED:20211205T121024Z
UID:5650-1640368800-1640372400@www.ceam.org.uy
SUMMARY:Culto Concierto - 24.12.2021 - 18h
DESCRIPTION:24 de diciembre 18.30 h Culto concierto – Noche Buena – Daniel Francis y Lucía Verdún – Soprano (Uruguay) \nCompartirHaz clic para compartir en Facebook (Se abre en una ventana nueva)Haz clic para compartir en WhatsApp (Se abre en una ventana nueva)\n\n	\n
URL:https://www.ceam.org.uy/evento/culto-concierto-24-12-2021-18h/
CATEGORIES:Conciertos/Conferencias,Cultos
END:VEVENT
END:VCALENDAR