BEGIN:VCALENDAR
VERSION:2.0
PRODID:-//CEAM - ECPv4.6.22//NONSGML v1.0//EN
CALSCALE:GREGORIAN
METHOD:PUBLISH
X-WR-CALNAME:CEAM
X-ORIGINAL-URL:https://www.ceam.org.uy
X-WR-CALDESC:Eventos para CEAM
BEGIN:VEVENT
DTSTART;TZID=UTC-3:20240623T110000
DTEND;TZID=UTC-3:20240623T120000
DTSTAMP:20260422T125549
CREATED:20240621T154355Z
LAST-MODIFIED:20240621T154355Z
UID:8405-1719140400-1719144000@www.ceam.org.uy
SUMMARY:CULTO CON SANTA CENA Y ESCUELA DOMINICAL
DESCRIPTION:DOMINGO    23.06.2024 – 11.00 h – Culto\, con Santa Cena y Escuela Dominical\n \nCompartirHaz clic para compartir en Facebook (Se abre en una ventana nueva)Haz clic para compartir en WhatsApp (Se abre en una ventana nueva)\n\n	\n
URL:https://www.ceam.org.uy/evento/culto-con-santa-cena-y-escuela-dominical/
CATEGORIES:Cultos
END:VEVENT
END:VCALENDAR