BEGIN:VCALENDAR
VERSION:2.0
PRODID:-//CEAM - ECPv4.6.22//NONSGML v1.0//EN
CALSCALE:GREGORIAN
METHOD:PUBLISH
X-WR-CALNAME:CEAM
X-ORIGINAL-URL:https://www.ceam.org.uy
X-WR-CALDESC:Eventos para CEAM
BEGIN:VEVENT
DTSTART;TZID=UTC-3:20230910T110000
DTEND;TZID=UTC-3:20230910T120000
DTSTAMP:20260424T010201
CREATED:20230909T004429Z
LAST-MODIFIED:20230909T004429Z
UID:7161-1694343600-1694347200@www.ceam.org.uy
SUMMARY:CULTO CON SANTA CENA - 10.09.2023\, 11 H
DESCRIPTION:CULTO CON SANTA CENA\n14° TRINITATIS\nDomingo 10 de septiembre\, 11.00 h a continuación del culto\, almuerzo comunitario a la lluvia y pintura del mural \n \nCompartirHaz clic para compartir en Facebook (Se abre en una ventana nueva)Haz clic para compartir en WhatsApp (Se abre en una ventana nueva)\n\n	\n
URL:https://www.ceam.org.uy/evento/culto-con-santa-cena-10-09-2023-11-h/
CATEGORIES:Cultos
END:VEVENT
END:VCALENDAR