BEGIN:VCALENDAR
VERSION:2.0
PRODID:-//CEAM - ECPv4.6.22//NONSGML v1.0//EN
CALSCALE:GREGORIAN
METHOD:PUBLISH
X-WR-CALNAME:CEAM
X-ORIGINAL-URL:https://www.ceam.org.uy
X-WR-CALDESC:Eventos para CEAM
BEGIN:VEVENT
DTSTART;TZID=UTC-3:20230618T110000
DTEND;TZID=UTC-3:20230618T120000
DTSTAMP:20260424T124844
CREATED:20230526T171817Z
LAST-MODIFIED:20230526T171817Z
UID:6766-1687086000-1687089600@www.ceam.org.uy
SUMMARY:Culto con escuela dominical
DESCRIPTION:Domingo 18 de junio\, 11.00 h – Culto con Santa Cena y escuela dominical \, Montevideo \nCompartirHaz clic para compartir en Facebook (Se abre en una ventana nueva)Haz clic para compartir en WhatsApp (Se abre en una ventana nueva)\n\n	\n
URL:https://www.ceam.org.uy/evento/culto-con-escuela-dominical/
CATEGORIES:Cultos
END:VEVENT
END:VCALENDAR