BEGIN:VCALENDAR
VERSION:2.0
PRODID:-//CEAM - ECPv4.6.22//NONSGML v1.0//EN
CALSCALE:GREGORIAN
METHOD:PUBLISH
X-WR-CALNAME:CEAM
X-ORIGINAL-URL:https://www.ceam.org.uy
X-WR-CALDESC:Eventos para CEAM
BEGIN:VEVENT
DTSTART;TZID=UTC-3:20170827T110000
DTEND;TZID=UTC-3:20170827T120000
DTSTAMP:20260422T145817
CREATED:20170803T025801Z
LAST-MODIFIED:20170826T013202Z
UID:1119-1503831600-1503835200@www.ceam.org.uy
SUMMARY:Culto bilingüe\, zweisprachiger Gottesdienst
DESCRIPTION:En esta oportunidad recordaremos al Sr. Hans-Wolfgang Wilcke\, cuyo sepelio fue efectuado el pasado 19 de agosto en el Cementerio Británico. \nCompartirHaz clic para compartir en Facebook (Se abre en una ventana nueva)Haz clic para compartir en WhatsApp (Se abre en una ventana nueva)\n\n	\n
URL:https://www.ceam.org.uy/evento/culto-bilingue/
CATEGORIES:Cultos
END:VEVENT
END:VCALENDAR