BEGIN:VCALENDAR
VERSION:2.0
PRODID:-//CEAM - ECPv4.6.22//NONSGML v1.0//EN
CALSCALE:GREGORIAN
METHOD:PUBLISH
X-WR-CALNAME:CEAM
X-ORIGINAL-URL:https://www.ceam.org.uy
X-WR-CALDESC:Eventos para CEAM
BEGIN:VEVENT
DTSTART;TZID=UTC-3:20220306T110000
DTEND;TZID=UTC-3:20220306T123000
DTSTAMP:20260426T013201
CREATED:20220314T165804Z
LAST-MODIFIED:20220314T165804Z
UID:5767-1646564400-1646569800@www.ceam.org.uy
SUMMARY:Culto bilingüe :: Zweisprachiger Gottesdienst
DESCRIPTION:DOMINGO / SONNTAG  06.03.2022 \n11.00 h mit Kindergottesdienst – Escuelita Dominical \nBautizmo \nCompartirHaz clic para compartir en Facebook (Se abre en una ventana nueva)Haz clic para compartir en WhatsApp (Se abre en una ventana nueva)\n\n	\n
URL:https://www.ceam.org.uy/evento/culto-bilingue-zweisprachiger-gottesdienst-11/
CATEGORIES:Cultos,Niños-Jóvenes-Confirmandos
END:VEVENT
END:VCALENDAR