BEGIN:VCALENDAR
VERSION:2.0
PRODID:-//CEAM - ECPv4.6.22//NONSGML v1.0//EN
CALSCALE:GREGORIAN
METHOD:PUBLISH
X-WR-CALNAME:CEAM
X-ORIGINAL-URL:https://www.ceam.org.uy
X-WR-CALDESC:Eventos para CEAM
BEGIN:VEVENT
DTSTART;TZID=UTC-3:20220904T110000
DTEND;TZID=UTC-3:20220904T120000
DTSTAMP:20260425T194452
CREATED:20220928T163634Z
LAST-MODIFIED:20220928T163634Z
UID:6054-1662289200-1662292800@www.ceam.org.uy
SUMMARY:CULTO BILINGÜE - EN LA CEAM
DESCRIPTION:DOMINGO 4 de setiembre 11 h – Culto Bilingüe con predicación en español. \nAcompaña al órgano Luis Felipe  \nCompartirHaz clic para compartir en Facebook (Se abre en una ventana nueva)Haz clic para compartir en WhatsApp (Se abre en una ventana nueva)\n\n	\n
URL:https://www.ceam.org.uy/evento/culto-bilingue-en-la-ceam/
CATEGORIES:Cultos
END:VEVENT
END:VCALENDAR