BEGIN:VCALENDAR
VERSION:2.0
PRODID:-//CEAM - ECPv4.6.22//NONSGML v1.0//EN
CALSCALE:GREGORIAN
METHOD:PUBLISH
X-WR-CALNAME:CEAM
X-ORIGINAL-URL:https://www.ceam.org.uy
X-WR-CALDESC:Eventos para CEAM
BEGIN:VEVENT
DTSTART;TZID=UTC-3:20231105T110000
DTEND;TZID=UTC-3:20231105T120000
DTSTAMP:20260423T221153
CREATED:20231020T175637Z
LAST-MODIFIED:20231103T134325Z
UID:7362-1699182000-1699185600@www.ceam.org.uy
SUMMARY:CULTO BILINGÜE / ZWEISPRACHIGER GOTTESDIENST - 05.11. - 11H CON SANTA CENA /MIT HLG. ABENDMAHL
DESCRIPTION:CULTO BILINGÜE DIA DE LA REFORMA\nCON SANTA CENA\nZWEISPRACHIGER REFORMATIONSGOTTESDIENST\nMIT HLG. ABENDMAHL\nDOMINGO – SONNTAG 05.11.2023 – 11 h\nEn este culto también recordaremos a nuestros seres queridos en la oración final.\nEste domingo nos encontramos para el culto con Santa Cena por el día de la Reforma.\nLuego del mismo almorzaremos juntos y luego continuamos pintando el mural.\nLos espero para pasar un día en comunidad de jóvenes.\nUn saludo Jerónimo \n \nCompartirHaz clic para compartir en Facebook (Se abre en una ventana nueva)Haz clic para compartir en WhatsApp (Se abre en una ventana nueva)\n\n	\n
URL:https://www.ceam.org.uy/evento/culto-bilingue-en-la-ceam-05-11-11h-con-santa-cena/
CATEGORIES:Cultos
END:VEVENT
END:VCALENDAR