BEGIN:VCALENDAR
VERSION:2.0
PRODID:-//CEAM - ECPv4.6.22//NONSGML v1.0//EN
CALSCALE:GREGORIAN
METHOD:PUBLISH
X-WR-CALNAME:CEAM
X-ORIGINAL-URL:https://www.ceam.org.uy
X-WR-CALDESC:Eventos para CEAM
BEGIN:VEVENT
DTSTART;TZID=UTC-3:20230702T110000
DTEND;TZID=UTC-3:20230702T120000
DTSTAMP:20260424T110909
CREATED:20230622T170907Z
LAST-MODIFIED:20230622T170907Z
UID:6852-1688295600-1688299200@www.ceam.org.uy
SUMMARY:CULTO BILINGüE CON SANTA CENA
DESCRIPTION:Domingo 2 de julio\, 11.00 h\nCulto bilingüe con Santa Cena \nCompartirHaz clic para compartir en Facebook (Se abre en una ventana nueva)Haz clic para compartir en WhatsApp (Se abre en una ventana nueva)\n\n	\n
URL:https://www.ceam.org.uy/evento/culto-bilingue-con-santa-cena/
CATEGORIES:Cultos
END:VEVENT
END:VCALENDAR