BEGIN:VCALENDAR
VERSION:2.0
PRODID:-//CEAM - ECPv4.6.22//NONSGML v1.0//EN
CALSCALE:GREGORIAN
METHOD:PUBLISH
X-WR-CALNAME:CEAM
X-ORIGINAL-URL:https://www.ceam.org.uy
X-WR-CALDESC:Eventos para CEAM
BEGIN:VEVENT
DTSTART;TZID=UTC-3:20230212T110000
DTEND;TZID=UTC-3:20230212T120000
DTSTAMP:20260425T025905
CREATED:20230126T225150Z
LAST-MODIFIED:20230208T012528Z
UID:6465-1676199600-1676203200@www.ceam.org.uy
SUMMARY:CULTO BILINGÜE - 12.02.2023
DESCRIPTION:CULTO SEXAGESIMAE – bilingüe  Pastor Dr. Jerónimo  Granados\n     CULTO IN MEMORIAM Sr. -Federico Ringeltaube \n\nEstimados miembros y amigos de la CEAM.\nLamentablemente ha fallecido el Sr. Federico Ringeltaube. \nTodavía hoy recuerdo su presencia en la iglesia junto a su señora Waltraud el día de mi instalación en el año 2015. \nPude visitarlos en varias oportunidades en su hogar y tuvimos amenas charlas sobre la congregación y el Hogar Amanecer\, entre tantas otras historias de su vida. \nEsa vida que lo trajo a estos rincones de la tierra\, el Uruguay\, donde hizo nido para cuidar de los suyos y de tantos otros. \nEra un hombre afable\, con una sonrisa en su rostro que no traslucía los momentos difíciles que supo transitar. \nFue un hombre activo en la congregación en la que participó de la vida cúltica\, fue uno de sus presidentes y además llevó adelante una labor en el área de la diaconía de la CEAM en nuestro Hogar Amanecer. \n100 años de vida fue lo que compartió mayormente con su esposa\, hijos y nietos\, amigos\, conocidos y su congregación. \nAgradecemos a Dios por sus dones brindados para el bien de muchos. \nCompartirHaz clic para compartir en Facebook (Se abre en una ventana nueva)Haz clic para compartir en WhatsApp (Se abre en una ventana nueva)\n\n	\n
URL:https://www.ceam.org.uy/evento/culto-bilingue-12-02-2023/
CATEGORIES:Cultos
END:VEVENT
END:VCALENDAR