BEGIN:VCALENDAR
VERSION:2.0
PRODID:-//CEAM - ECPv4.6.22//NONSGML v1.0//EN
CALSCALE:GREGORIAN
METHOD:PUBLISH
X-WR-CALNAME:CEAM
X-ORIGINAL-URL:https://www.ceam.org.uy
X-WR-CALDESC:Eventos para CEAM
BEGIN:VEVENT
DTSTART;TZID=UTC-3:20221127T110000
DTEND;TZID=UTC-3:20221127T120000
DTSTAMP:20260425T121729
CREATED:20221126T095236Z
LAST-MODIFIED:20221126T095236Z
UID:6264-1669546800-1669550400@www.ceam.org.uy
SUMMARY:CULTO 1º DOMINGO DE ADVIENTO
DESCRIPTION:​Domingo 27 de noviembre a las 11h  \nCULTO 1° Domingo de Adviento  \n   Pastor Dr. Jerónimo GRANADOS –  Predicación\nLuis FELIPE – Órgano\nCantaremos himnos en alemán y español \n \nCompartirHaz clic para compartir en Facebook (Se abre en una ventana nueva)Haz clic para compartir en WhatsApp (Se abre en una ventana nueva)\n\n	\n
URL:https://www.ceam.org.uy/evento/culto-1o-domingo-de-adviento/
CATEGORIES:Cultos
END:VEVENT
END:VCALENDAR