BEGIN:VCALENDAR
VERSION:2.0
PRODID:-//CEAM - ECPv4.6.22//NONSGML v1.0//EN
CALSCALE:GREGORIAN
METHOD:PUBLISH
X-WR-CALNAME:CEAM
X-ORIGINAL-URL:https://www.ceam.org.uy
X-WR-CALDESC:Eventos para CEAM
BEGIN:VEVENT
DTSTART;TZID=UTC-3:20231011T190000
DTEND;TZID=UTC-3:20231011T203000
DTSTAMP:20260423T180642
CREATED:20231006T144206Z
LAST-MODIFIED:20231006T144206Z
UID:7298-1697050800-1697056200@www.ceam.org.uy
SUMMARY:CRISTIANISMO Y ARTE - en la Universidad Católica con el Pastor Granados
DESCRIPTION: \nMiércoles 11 de octubre de 2023 – 19 a 20.30 h\nUniversidad Católica del Uruguay \nINSCRIPCIÓN PREVIA\, VER AFICHE \nCompartirHaz clic para compartir en Facebook (Se abre en una ventana nueva)Haz clic para compartir en WhatsApp (Se abre en una ventana nueva)\n\n	\n
URL:https://www.ceam.org.uy/evento/cristianismo-y-arte-en-la-universidad-catolica-con-el-pastor-granados/
CATEGORIES:Ecumenismo-Obras Ecuménicas
END:VEVENT
END:VCALENDAR