BEGIN:VCALENDAR
VERSION:2.0
PRODID:-//CEAM - ECPv4.6.22//NONSGML v1.0//EN
CALSCALE:GREGORIAN
METHOD:PUBLISH
X-WR-CALNAME:CEAM
X-ORIGINAL-URL:https://www.ceam.org.uy
X-WR-CALDESC:Eventos para CEAM
BEGIN:VEVENT
DTSTART;VALUE=DATE:20220820
DTEND;VALUE=DATE:20220822
DTSTAMP:20260425T234919
CREATED:20220802T222529Z
LAST-MODIFIED:20220811T174601Z
UID:5959-1660953600-1661126399@www.ceam.org.uy
SUMMARY:Conferencia distrital y culto en NUEVA HELVECIA
DESCRIPTION:​S​á​bado 20 y ​domingo ​21 de Agosto ​- ​Conferencia Distrito Uruguay en Nueva Helvecia\nDomingo 21 de Agosto ​- ​10 h Culto e instalación de las autoridades distritales en Nueva Helvecia\, iglesia calle Germán Imhof entre Juan Wirth y Ana G. de Greising.\nPor tal razón el domingo 21 de agosto de 2022 no se celebrará culto en Montevideo. \nCompartirHaz clic para compartir en Facebook (Se abre en una ventana nueva)Haz clic para compartir en WhatsApp (Se abre en una ventana nueva)\n\n	\n
URL:https://www.ceam.org.uy/evento/conferencia-distrital-y-culto-en-nueva-helvecia/
CATEGORIES:CEAM-Directiva/Reuniones-Asambleas,Cultos
END:VEVENT
END:VCALENDAR